BEGIN:VCALENDAR
VERSION:2.0
PRODID:-//eventon.com NONSGML v1.0//EN
BEGIN:VEVENT
UID:69e738e936cfe
DTSTAMP:20260421T044425
DTSTART:20190728T231500Z
DTEND:20190729T035000Z
LOCATION:LCCC HS-101 
SUMMARY:Local HS Rules Meeting
DESCRIPTION: Local HS Rules Meeting
END:VEVENT
END:VCALENDAR