BEGIN:VCALENDAR
VERSION:2.0
PRODID:-//eventon.com NONSGML v1.0//EN
BEGIN:VEVENT
UID:69e9db1acda0c
DTSTAMP:20260423T044058
DTSTART:20230716T230000Z
DTEND:20230717T003000Z
LOCATION:LCCC HS-101 
SUMMARY:FSRA Local Meeting – July 16 – LCCC HS 101 – 7pm
DESCRIPTION: FSRA Local Meeting – July 16 – LCCC HS 101 – 7pm
END:VEVENT
END:VCALENDAR